BEGIN:VCALENDAR
VERSION:2.0
PRODID:-//French Quarter Management District - ECPv6.15.20//NONSGML v1.0//EN
CALSCALE:GREGORIAN
METHOD:PUBLISH
X-ORIGINAL-URL:https://www.fqmd.org
X-WR-CALDESC:Events for French Quarter Management District
REFRESH-INTERVAL;VALUE=DURATION:PT1H
X-Robots-Tag:noindex
X-PUBLISHED-TTL:PT1H
BEGIN:VTIMEZONE
TZID:America/Chicago
BEGIN:DAYLIGHT
TZOFFSETFROM:-0600
TZOFFSETTO:-0500
TZNAME:CDT
DTSTART:20190310T080000
END:DAYLIGHT
BEGIN:STANDARD
TZOFFSETFROM:-0500
TZOFFSETTO:-0600
TZNAME:CST
DTSTART:20191103T070000
END:STANDARD
BEGIN:DAYLIGHT
TZOFFSETFROM:-0600
TZOFFSETTO:-0500
TZNAME:CDT
DTSTART:20200308T080000
END:DAYLIGHT
BEGIN:STANDARD
TZOFFSETFROM:-0500
TZOFFSETTO:-0600
TZNAME:CST
DTSTART:20201101T070000
END:STANDARD
BEGIN:DAYLIGHT
TZOFFSETFROM:-0600
TZOFFSETTO:-0500
TZNAME:CDT
DTSTART:20210314T080000
END:DAYLIGHT
BEGIN:STANDARD
TZOFFSETFROM:-0500
TZOFFSETTO:-0600
TZNAME:CST
DTSTART:20211107T070000
END:STANDARD
END:VTIMEZONE
BEGIN:VEVENT
DTSTART;TZID=America/Chicago:20200810T141000
DTEND;TZID=America/Chicago:20200810T161000
DTSTAMP:20260423T224104
CREATED:20200806T172615Z
LAST-MODIFIED:20200806T172944Z
UID:1955-1597068600-1597075800@www.fqmd.org
SUMMARY:Special Board Meeting
DESCRIPTION:20200810_Board AgendaDownload
URL:https://www.fqmd.org/event/special-board-meeting-2/
LOCATION:Louisiana
CATEGORIES:Board Meeting
END:VEVENT
BEGIN:VEVENT
DTSTART;TZID=America/Chicago:20200812T141000
DTEND;TZID=America/Chicago:20200812T154000
DTSTAMP:20260423T224104
CREATED:20200807T213545Z
LAST-MODIFIED:20200914T220026Z
UID:1960-1597241400-1597246800@www.fqmd.org
SUMMARY:Government Affairs Committee Meeting
DESCRIPTION:20200812_Governmental Affairs Committee_agendaDownload
URL:https://www.fqmd.org/event/government-affairs-committee-meeting-8/
LOCATION:Louisiana
CATEGORIES:Government Affairs Committee,Government Committee
END:VEVENT
BEGIN:VEVENT
DTSTART;TZID=America/Chicago:20200831T161000
DTEND;TZID=America/Chicago:20200831T171000
DTSTAMP:20260423T224104
CREATED:20191219T224934Z
LAST-MODIFIED:20201103T184357Z
UID:1625-1598890200-1598893800@www.fqmd.org
SUMMARY:Finance & Development Committee Meeting
DESCRIPTION:20200824_Finance and Development Committee_AGENDADownload
URL:https://www.fqmd.org/event/finance-development-committee-meeting-3/
LOCATION:400 North Peters\, Suite 206\, 400 N. Peters St.\, New Orleans\, LA\, 70130\, United States
CATEGORIES:Finance and Development Committee
GEO:29.9544973;-90.0642066
X-APPLE-STRUCTURED-LOCATION;VALUE=URI;X-ADDRESS=400 North Peters Suite 206 400 N. Peters St. New Orleans LA 70130 United States;X-APPLE-RADIUS=500;X-TITLE=400 N. Peters St.:geo:-90.0642066,29.9544973
END:VEVENT
END:VCALENDAR